BEGIN:VCALENDAR
VERSION:2.0
PRODID:-//TotalExpo.ru v1.0//EN
BEGIN:VEVENT
DTSTAMP:20260909T120000
DTSTART:20260909T070000Z
DTEND:20260909T140000Z
SUMMARY:ЦветыCONF 2026 (Москва, Россия)
DESCRIPTION:Крупнейшая российская конференция в сфере розничного цветочного бизнеса для собственников, менеджеров, маркетологов и сотрудников флористических компаний. Спикеры-профессионалы отрасли расскажут о новых приёмах ведения бизнеса, современных вкусах клиентов, вариантах продвижения в цифровую эпоху. Вы узнаете про цифровую трансформацию бизнеса на реальных кейсах, сможете поучаствовать в интерактивных мастер-классах.
LOCATION:МВЦ Крокус Экспо (Россия, Москва)
END:VEVENT
END:VCALENDAR