BEGIN:VCALENDAR
VERSION:2.0
PRODID:-//TotalExpo.ru v1.0//EN
BEGIN:VEVENT
DTSTAMP:20260917T120000
DTSTART:20260917T070000Z
DTEND:20260920T140000Z
SUMMARY:Intermob 2026 (Стамбул, Турция)
DESCRIPTION:Одна из ведущих выставок мебельной отрасли в Турции, предлагающая широкий спектр товаров, включая изделия из дерева и леса, мебельную фурнитуру, химикаты, производственные инструменты и оборудование. 
LOCATION:Tuyap Fair Convention and Congress Center  (Турция, Стамбул)
END:VEVENT
END:VCALENDAR