BEGIN:VCALENDAR
VERSION:2.0
PRODID:-//TotalExpo.ru v1.0//EN
BEGIN:VEVENT
DTSTAMP:20261020T120000
DTSTART:20261020T070000Z
DTEND:20261022T140000Z
SUMMARY:Российский диагностический саммит 2026 (Москва, Россия)
DESCRIPTION: На Саммите будут рассматриваться актуальные вопросы лабораторной, лучевой, ультразвуковой и функциональной диагностики, вопросы экспертного междисциплинарного взаимодействия, цифровизации диагностических отраслей здравоохранения.<br/>В течение всего мероприятия в нескольких параллельных залах будут проходить различные научно-образовательные сессии, симпозиумы, круглые столы, и практические мастер-классы. Благодаря новому формату всех участников будут ждать как профильные залы по их специализации, так и секции по общим проблемам диагностических служб.<br/>Специальные проекты Саммита позволят сочетать науку с творчеством. Все три дня участников ждет насыщенная культурная программа, увлекательные интерактивы и, конечно, живое общение с коллегами.
LOCATION:МВЦ Крокус Экспо (Россия, Москва)
END:VEVENT
END:VCALENDAR