BEGIN:VCALENDAR
VERSION:2.0
PRODID:-//TotalExpo.ru v1.0//EN
BEGIN:VEVENT
DTSTAMP:20260422T120000
DTSTART:20260422T070000Z
DTEND:20260429T140000Z
SUMMARY:Российская Неделя Искусств / Russian Art Week 2026 (Москва, Россия)
DESCRIPTION:Российская Неделя Искусств представляет широкое многообразие современного и традиционного искусства (traditional, modern, contemporary) из России и более 10-ти стран мира. Мероприятие включает объёмную деловую, научно-познавательную и информационную программу: а) Выставка б) Конкурс в) Арт-Форум г) Мастер-классы.
LOCATION:Гоголь Арт (Россия, Москва)
END:VEVENT
END:VCALENDAR