BEGIN:VCALENDAR
VERSION:2.0
PRODID:-//TotalExpo.ru v1.0//EN
BEGIN:VEVENT
DTSTAMP:20260923T120000
DTSTART:20260923T070000Z
DTEND:20260925T140000Z
SUMMARY:IDMA RUSSIA 2026 (Москва, Россия)
DESCRIPTION:Международная выставка машин и оборудования для производства и переработки муки, кормов, кукурузы, манной крупы, риса, булгура и бобовых, макаронных изделий, бисквитных технологий.
LOCATION:МВЦ Крокус Экспо (Россия, Москва)
END:VEVENT
END:VCALENDAR