BEGIN:VCALENDAR
VERSION:2.0
PRODID:-//TotalExpo.ru v1.0//EN
BEGIN:VEVENT
DTSTAMP:20260424T120000
DTSTART:20260424T070000Z
DTEND:20260426T140000Z
SUMMARY:Арсенал 2026 (Москва, Россия)
DESCRIPTION:Выставка клинковых изделий «Арсенал» ставит своей целью популяризацию кузнечного дела и профессии кузнец-оружейник. Компактный формат выставки позволяет посетителям с головой окунуться в мир клинковых изделий. Кроме того, организаторы предлагают всем желающим расширить свой кругозор в смежных сферах, таких как спортивное метание ножа, современный мечевой бой и коллекционирование антикварных клинковых изделий. 
LOCATION:Тишинка, ТВК  (Россия, Москва)
END:VEVENT
END:VCALENDAR