BEGIN:VCALENDAR
VERSION:2.0
PRODID:-//TotalExpo.ru v1.0//EN
BEGIN:VEVENT
DTSTAMP:20260930T120000
DTSTART:20260930T070000Z
DTEND:20261004T140000Z
SUMMARY:Global Event Forum 2026 (Сочи, Россия)
DESCRIPTION:GEF - это место встречи ивенторов, заказчиков и подрядчиков. Место, где каждый представитель Event-индустрии найдет ответ и решение своего запроса. В качестве спикеров выступят как лидеры ивент бизнеса, так и новые яркие имена с яркими кейсами. 
LOCATION:Красная Поляна 960 (Россия, Сочи)
END:VEVENT
END:VCALENDAR