BEGIN:VCALENDAR
VERSION:2.0
PRODID:-//TotalExpo.ru v1.0//EN
BEGIN:VEVENT
DTSTAMP:20250526T120000
DTSTART:20250526T070000Z
DTEND:20250527T140000Z
SUMMARY:МИРОВАЯ СОЯ 2025 (Сочи, Россия)
DESCRIPTION:В программе бизнес-форума: комплексный анализ обстановки на мировом и российском рынке сои, нормы законодательного регулирования качества продукции, импорт и экспорт, международные торговые войны, программы сертификации соепродукции, мировые тенденции в потреблении сои, новинки сфере технологий производства и переработки сои.
LOCATION:Богатырь, отель-замок (Россия, Сочи)
END:VEVENT
END:VCALENDAR