BEGIN:VCALENDAR
VERSION:2.0
PRODID:-//TotalExpo.ru v1.0//EN
BEGIN:VEVENT
DTSTAMP:20260901T120000
DTSTART:20260901T070000Z
DTEND:20260905T140000Z
SUMMARY:ОСЕННЯЯ ФЛОРА 2026 (Санкт-Петербург, Россия)
DESCRIPTION:Посадочный материал, средства защиты растений, удобрения, садово-огородный инвентарь, товары для ухода за садом, хранения и переработки урожая. <br/>
На выставке-ярмарке можно подобрать дачную и садовую мебель, ландшафтную керамику, посадочные материалы из питомников Северо-Западного региона и частных коллекционеров, приобрести садово-огородный инвентарь, одежду и обувь для работы в саду и многое другое.

LOCATION:Forum, ТК (Россия, Санкт-Петербург)
END:VEVENT
END:VCALENDAR