BEGIN:VCALENDAR
VERSION:2.0
PRODID:-//TotalExpo.ru v1.0//EN
BEGIN:VEVENT
DTSTAMP:20260811T120000
DTSTART:20260811T070000Z
DTEND:20260815T140000Z
SUMMARY:Цветы и мёд круглый год 2026 (Санкт-Петербург, Россия)
DESCRIPTION:Мед и продукты пчеловодства, выставка цветочной срезки и ярмарка посадочного материала и товаров для садоводов.
LOCATION:Forum, ТК (Россия, Санкт-Петербург)
END:VEVENT
END:VCALENDAR