BEGIN:VCALENDAR
VERSION:2.0
PRODID:-//TotalExpo.ru v1.0//EN
BEGIN:VEVENT
DTSTAMP:20260527T120000
DTSTART:20260527T070000Z
DTEND:20260530T140000Z
SUMMARY:Цветочная палитра лета 2026 (Санкт-Петербург, Россия)
DESCRIPTION:Выставка-ярмарка для цветоводов-любителей Санкт-Петербурга и Ленинградской области
LOCATION:Кубатура, ТЦ (Россия, Санкт-Петербург)
END:VEVENT
END:VCALENDAR