BEGIN:VCALENDAR
VERSION:2.0
PRODID:-//TotalExpo.ru v1.0//EN
BEGIN:VEVENT
DTSTAMP:20260514T120000
DTSTART:20260514T070000Z
DTEND:20260515T140000Z
SUMMARY:Полимерный бизнес России 2026 (Сочи, Россия)
DESCRIPTION:Основное внимание в программе форума уделено практическим вопросам повышения экономической эффективности при внедрении новых моделей и технологий производства.
LOCATION:Swissotel Resort Сочи Камелия (Россия, Сочи)
END:VEVENT
END:VCALENDAR