BEGIN:VCALENDAR
VERSION:2.0
PRODID:-//TotalExpo.ru v1.0//EN
BEGIN:VEVENT
DTSTAMP:20260531T120000
DTSTART:20260531T070000Z
DTEND:20260603T140000Z
SUMMARY:Саммит психологов 2026 (Санкт-Петербург, Россия)
DESCRIPTION:Традиционная встреча профессионально успешных психологов России. Признанные лидеры в различных областях психологии делятся секретами успеха, обмениваются опытом, обсуждают тенденции психологической практики и новости науки. В рамках саммита проходят мастер-классы, лекции, круглые столы – более 60 мероприятий, охватывающих все сферы практической психологии: образование, здравоохранение, бизнес, социальную сферу и др.
LOCATION:Отель Санкт-Петербург (Россия, Санкт-Петербург)
END:VEVENT
END:VCALENDAR