BEGIN:VCALENDAR
VERSION:2.0
PRODID:-//TotalExpo.ru v1.0//EN
BEGIN:VEVENT
DTSTAMP:20260427T120000
DTSTART:20260427T070000Z
DTEND:20260430T140000Z
SUMMARY:Инфофорум-Калининград 2026 (Калининград, Россия)
DESCRIPTION:Межрегиональная конференция по информационной безопасности, центральная тема которой – защита цифровой инфраструктуры стратегического региона страны. Мероприятие объединит представителей федеральных органов власти, регуляторов, региональных участников, ИТ- и ИБ-компаний, а также экспертов отрасли.
LOCATION:Балтийский федеральный университет им. И. Канта (Россия, Калининград)
END:VEVENT
END:VCALENDAR