BEGIN:VCALENDAR
VERSION:2.0
PRODID:-//TotalExpo.ru v1.0//EN
BEGIN:VEVENT
DTSTAMP:20260520T120000
DTSTART:20260520T070000Z
DTEND:20260522T140000Z
SUMMARY:VODEXPO 2026 (Москва, Россия)
DESCRIPTION:Выставка представляет научно-технические достижения и инновации в сфере водных технологий. Основной целью мероприятия является демонстрация научно-технического и экономического потенциала сотрудничества России и зарубежных стран в сфере защиты водной среды, сохранения её биоразнообразия, борьбы с глобальными техногенными загрязнениями водных ресурсов, совместного производства высокотехнологичной природоохранной продукции, зеленых технологий и цифровых решений, реализации проектов по строительству гидротехнической, портовой и мелиоративной инфраструктуры, созданию систем комплексного управления и эффективного экологического мониторинга водных объектов, а также ликвидации последствий загрязнений водоёмов и их реабилитации.
LOCATION:Гостиный Двор (Россия, Москва)
END:VEVENT
END:VCALENDAR