BEGIN:VCALENDAR
VERSION:2.0
PRODID:-//TotalExpo.ru v1.0//EN
BEGIN:VEVENT
DTSTAMP:20261118T120000
DTSTART:20261118T070000Z
DTEND:20261120T140000Z
SUMMARY:Дентал-Экспо. Самара 2026 (Самара, Россия)
DESCRIPTION:Выставка технологий, оборудования и материалов для стоматологии.
LOCATION:Экспо-Волга, ВЦ (Россия, Самара)
END:VEVENT
END:VCALENDAR