BEGIN:VCALENDAR
VERSION:2.0
PRODID:-//TotalExpo.ru v1.0//EN
BEGIN:VEVENT
DTSTAMP:20251219T120000
DTSTART:20251219T070000Z
DTEND:20251221T140000Z
SUMMARY:Крафт Базар 2025 (Санкт-Петербург, Россия)
DESCRIPTION:Крафт-Базар - это масштабная площадка, цель которой объединить людей, имеющих деловой и творческий интерес в индустрии различных видов хобби, рукоделия и творчества.
LOCATION:Севкабель Порт (Россия, Санкт-Петербург)
END:VEVENT
END:VCALENDAR