BEGIN:VCALENDAR
VERSION:2.0
PRODID:-//TotalExpo.ru v1.0//EN
BEGIN:VEVENT
DTSTAMP:20251203T120000
DTSTART:20251203T070000Z
DTEND:20251205T140000Z
SUMMARY:Международная неделя бизнеса 2025 (Уфа, Россия)
DESCRIPTION:Международная неделя бизнеса – это событие, объединяющее представителей региональной и федеральной власти, экспертов и предпринимателей из разных стран.<br/>Неделя пройдет в «гибридном» формате: онлайн и офлайн. Часть спикеров соберутся на площадке, соблюдая меры безопасности, остальные участники присоединятся к дискуссии по конференц-связи.<br/>Деловая программа будет посвящена в целом экономике, а также темам МСП стран-участниц ШОС и БРИКС, туризму и экспорту.
LOCATION:Конгресс-Холл Торатау (Россия, Уфа)
END:VEVENT
END:VCALENDAR