BEGIN:VCALENDAR
VERSION:2.0
PRODID:-//TotalExpo.ru v1.0//EN
BEGIN:VEVENT
DTSTAMP:20260513T120000
DTSTART:20260513T070000Z
DTEND:20260514T140000Z
SUMMARY:Российский Фармацевтический форум 2026 (Санкт-Петербург, Россия)
DESCRIPTION:Российский Фармацевтический форум уже больше 20-ти лет является крупнейшей независимой международной конференцией в России, посвященной обсуждению самых значимых вопросов, стоящих перед фармацевтической отраслью. Российский Фармацевтический Форум всегда предлагает стратегическую программу, составленную на основе тщательного изучения ваших профессиональных мнений и созданную специально для руководителей фармкомпаний. Основной пользой посещения форума является возможность принять участие в обсуждении идей, лучшего опыта, а также уникальная возможность поделиться своим мнением о будущем фармацевтической индустрии России с самыми блестящими экспертами сектора.
LOCATION:Коринтия Санкт-Петербург (Россия, Санкт-Петербург)
END:VEVENT
END:VCALENDAR