BEGIN:VCALENDAR
VERSION:2.0
PRODID:-//TotalExpo.ru v1.0//EN
BEGIN:VEVENT
DTSTAMP:20260530T120000
DTSTART:20260530T070000Z
DTEND:20260531T140000Z
SUMMARY:Moscow Coffee Festival 2026 (Москва, Россия)
DESCRIPTION:Это событие соберет вместе любителей и профессионалов в сфере кофе, каждый сможет встретить идеальный для себя кофе, познакомиться с новыми кофейными проектами, обменяться опытом и провести время с пользой и удовольствием!
LOCATION:Хлебозавод №9 (Россия, Москва)
END:VEVENT
END:VCALENDAR