BEGIN:VCALENDAR
VERSION:2.0
PRODID:-//TotalExpo.ru v1.0//EN
BEGIN:VEVENT
DTSTAMP:20250911T120000
DTSTART:20250911T070000Z
DTEND:20250912T140000Z
SUMMARY:Smart Oil &amp; Gas 2025 (Москва, Россия)
DESCRIPTION:Площадка для обсуждения и обмена опытом по ключевым вопросам и актуальным проблемам цифровой трансформации, развития ИТ-систем и промышленной автоматизации в нефтегазовой отрасли РФ, включая инновационные технологии и выработку подходов к реализации проектов цифровизации и ИТ с участием бизнеса, разработчиков и государства в условиях новой политической и экономической ситуации.
LOCATION:Soluxe Hotel Moscow (Россия, Москва)
END:VEVENT
END:VCALENDAR