BEGIN:VCALENDAR
VERSION:2.0
PRODID:-//TotalExpo.ru v1.0//EN
BEGIN:VEVENT
DTSTAMP:20260604T120000
DTSTART:20260604T070000Z
DTEND:20260604T140000Z
SUMMARY:Travel IT WorkShop / TITW 2026 (Москва, Россия)
DESCRIPTION:Крупнейшая выставка-конференция в России, посвященная инновационным технологиям в туристическом бизнесе.. Мы затронем все сферы бизнеса, от технологий продаж и оптимизации бизнес-процессов, до внедрения конткретных IT-инструментов, которые помогут вам восстановить и адаптировать свой бизнес к новым условиям рынка! 
LOCATION:Отель Palmira Business Club (Россия, Москва)
END:VEVENT
END:VCALENDAR