BEGIN:VCALENDAR
VERSION:2.0
PRODID:-//TotalExpo.ru v1.0//EN
BEGIN:VEVENT
DTSTAMP:20261203T120000
DTSTART:20261203T070000Z
DTEND:20261206T140000Z
SUMMARY:Ростов Бьюти 2026 (Ростов-на-Дону, Россия)
DESCRIPTION:Всё о красоте, здоровье и стиле - офлайн маркетплейс косметики и парфюмерии. Вас ожидают: бесплатные мастер-классы от визажистов, личные консультации стилистов, разбор косметички и самые актуальные тренды — от макияжа до образа, в котором вы встретите 2026 год.<br/>Дополнит программу масштабный велнес форум, где врачи и эксперты расскажут о женском здоровье, профилактике и внутренней гармонии.
LOCATION:ДонЭкспоцентр, КВЦ (Россия, Ростов-на-Дону)
END:VEVENT
END:VCALENDAR