BEGIN:VCALENDAR
VERSION:2.0
PRODID:-//TotalExpo.ru v1.0//EN
BEGIN:VEVENT
DTSTAMP:20260527T120000
DTSTART:20260527T070000Z
DTEND:20260601T140000Z
SUMMARY:Благодать 2026 (Ростов-на-Дону, Россия)
DESCRIPTION:Выставка представляет широкий ассортимент товаров православной тематики, включая иконы, книги, товары обрядово-культового назначения. Посетителей ждут семейные активности, игры, мастер-классы, лекции и даже возможность бесплатно проверить здоровье.
LOCATION:ДонЭкспоцентр, КВЦ (Россия, Ростов-на-Дону)
END:VEVENT
END:VCALENDAR