BEGIN:VCALENDAR
VERSION:2.0
PRODID:-//TotalExpo.ru v1.0//EN
BEGIN:VEVENT
DTSTAMP:20260922T120000
DTSTART:20260922T070000Z
DTEND:20260922T140000Z
SUMMARY:ПроПротеин 2026 (Москва, Россия)
DESCRIPTION:Тренды и технологии в производстве и применении животных (рыбная и мясокостная мука) и синтетических ("Мясо из пробирки") протеинов.
LOCATION:Лесная Сафмар (Россия, Москва)
END:VEVENT
END:VCALENDAR