BEGIN:VCALENDAR
VERSION:2.0
PRODID:-//TotalExpo.ru v1.0//EN
BEGIN:VEVENT
DTSTAMP:20260617T120000
DTSTART:20260617T070000Z
DTEND:20260619T140000Z
SUMMARY:Safeology 2026 (Санкт-Петербург, Россия)
DESCRIPTION:Международная конференция о производственной безопасности. 
LOCATION:CORT INN St-Petersburg Hotel & Conference center (Россия, Санкт-Петербург)
END:VEVENT
END:VCALENDAR