BEGIN:VCALENDAR
VERSION:2.0
PRODID:-//TotalExpo.ru v1.0//EN
BEGIN:VEVENT
DTSTAMP:20260403T120000
DTSTART:20260403T070000Z
DTEND:20260403T140000Z
SUMMARY:Телемедфорум 2026 (Москва, Россия)
DESCRIPTION:Коммуникационная площадка, которая объединяет ведущих игроков рынка цифровизации здравоохранения: врачей, руководителей медицинских учреждений, юристов, разработчиков IT-продуктов для сферы здравоохранения, специалистов по информационной безопасности, инновационные компании и стартапы в сфере телемедицины, представителей государства, специалистов по медицинскому маркетингу и рекламе. 
LOCATION:Технопарк Сколково (Россия, Москва)
END:VEVENT
END:VCALENDAR