BEGIN:VCALENDAR
VERSION:2.0
PRODID:-//TotalExpo.ru v1.0//EN
BEGIN:VEVENT
DTSTAMP:20260512T120000
DTSTART:20260512T070000Z
DTEND:20260515T140000Z
SUMMARY:Rusweld 2026 (Москва, Россия)
DESCRIPTION:Выставка призвана представить передовые решения и мировые практики в сфере сварочного оборудования, материалов и технологий сваривания и резки металлов.<br/>Rusweld объединяет производителей, поставщиков и потребителей оборудования и продукции сварочной промышленности и призван поддержать развитие сварочной отрасли, а также продемонстрировать ее возможности и достижения.<br/>На выставке предусмотрена обширная деловая программа, в рамках которой предполагается рассмотреть вопросы состояния и развития отрасли, области применения новых технологий, взаимодействия государственных органов власти с ведущими участниками рынка.
LOCATION:площадка уточняется (Россия, Москва)
END:VEVENT
END:VCALENDAR