BEGIN:VCALENDAR
VERSION:2.0
PRODID:-//TotalExpo.ru v1.0//EN
BEGIN:VEVENT
DTSTAMP:20260521T120000
DTSTART:20260521T070000Z
DTEND:20260523T140000Z
SUMMARY:SPBTransportfest 2026 (Санкт-Петербург, Россия)
DESCRIPTION:Выставка инновационной техники в рамках транспортного фестиваля SPBTransportfest. В экспозиции представлены автобусы, троллейбусы, трамваи, легковые и грузовые автомобили, спецтехника – ведущих мировых и отечественных производителей (MAN, Scania, Mercedes, Volgabus, МАЗ и др.).
LOCATION:Кленовая улица (Россия, Санкт-Петербург)
END:VEVENT
END:VCALENDAR