BEGIN:VCALENDAR
VERSION:2.0
PRODID:-//TotalExpo.ru v1.0//EN
BEGIN:VEVENT
DTSTAMP:20260921T120000
DTSTART:20260921T070000Z
DTEND:20260923T140000Z
SUMMARY:TXCA &amp; CLE - Texcare Asia &amp; China Laundry Expo 2026 (Шанхай, Китай)
DESCRIPTION:Международная выставка товаров, оборудования и услуг для химической чистки, стирки и текстильного сервиса.
LOCATION:Shanghai New International Expo Centre (Китай, Шанхай)
END:VEVENT
END:VCALENDAR