BEGIN:VCALENDAR
VERSION:2.0
PRODID:-//TotalExpo.ru v1.0//EN
BEGIN:VEVENT
DTSTAMP:20261027T120000
DTSTART:20261027T070000Z
DTEND:20261028T140000Z
SUMMARY:Международный горный форум Узбекистана - UIMF 2026 (Ташкент, Узбекистан)
DESCRIPTION:Международный горно-металлургический форум Узбекистана — UIMF — это не просто форум, а стратегическая бизнес-платформа, где рождаются соглашения, запускаются инвестиционные проекты и формируются кооперации на десятилетия вперёд.<br/>Форум традиционно проводится при официальной поддержке Министерства горнодобывающей промышленности и геологии Республики Узбекистан и станет важным шагом в формировании новых партнёрств и стратегий для долгосрочного развития ГМК в условиях глобальных трансформаций.
LOCATION:НВК «Узэкспоцентр» (Узбекистан, Ташкент)
END:VEVENT
END:VCALENDAR