BEGIN:VCALENDAR
VERSION:2.0
PRODID:-//TotalExpo.ru v1.0//EN
BEGIN:VEVENT
DTSTAMP:20270914T120000
DTSTART:20270914T070000Z
DTEND:20270917T140000Z
SUMMARY:TTME 2027 (Ташкент, Узбекистан)
DESCRIPTION:Международная выставка оборудования и технологий для текстильной и швейной промышленности Центральной Азии.
LOCATION:НВК «Узэкспоцентр» (Узбекистан, Ташкент)
END:VEVENT
END:VCALENDAR