BEGIN:VCALENDAR
VERSION:2.0
PRODID:-//TotalExpo.ru v1.0//EN
BEGIN:VEVENT
DTSTAMP:20261128T120000
DTSTART:20261128T070000Z
DTEND:20261128T140000Z
SUMMARY:АРТРОМОСТ 2026 (Москва, Россия)
DESCRIPTION:«Артромост» это научно-практический проект, созданный известными практикующими врачами ортопедами России и Украины с целью обмена опытом диагностики и лечения в сфере травматологии-ортопедии и спортивной медицины. В программу конференции включены онлайн трансляции из операционной, с демонстрацией современных хирургических методов и технологий известными европейскими специалистами, а также лекции европейских и российских хирургов-практиков.
LOCATION:Балчуг Кемпински (Россия, Москва)
END:VEVENT
END:VCALENDAR