BEGIN:VCALENDAR
VERSION:2.0
PRODID:-//TotalExpo.ru v1.0//EN
BEGIN:VEVENT
DTSTAMP:20250626T120000
DTSTART:20250626T070000Z
DTEND:20250627T140000Z
SUMMARY:Saint TeamLead Conf 2025 (Санкт-Петербург, Россия)
DESCRIPTION:Конференция для тех, кто хочет перейти на новый для себя уровень управления небольшими командами. Вы получите возможность услышать доклады по всему спектру навыков для управленца любого уровня или же заострить своё внимание на секциях, связанных только с определенными тематиками. Как стать тимлидом, позиционировать себя в коллективе, качественно управлять людьми без головной боли и многое другое.
LOCATION:Design District DAA (Россия, Санкт-Петербург)
END:VEVENT
END:VCALENDAR