BEGIN:VCALENDAR
VERSION:2.0
PRODID:-//TotalExpo.ru v1.0//EN
BEGIN:VEVENT
DTSTAMP:20260602T120000
DTSTART:20260602T070000Z
DTEND:20260604T140000Z
SUMMARY:Central Asia Reklam 2026 (Алма-Ата, Казахстан)
DESCRIPTION:Выставка объединит производителей и дистрибьютеров из разных стран мира для презентаций производимой продукции и технологических инноваций в рекламной индустрии. Участникам  предоставляется прекрасная возможность наладить и укрепить деловые связи в Центрально-азиатском регионе и расширить горизонты деятельности компаний через представителей оптовых компаний и розничных сетей.
LOCATION:Атакент, КЦДС (Казахстан, Алма-Ата)
END:VEVENT
END:VCALENDAR