BEGIN:VCALENDAR
VERSION:2.0
PRODID:-//TotalExpo.ru v1.0//EN
BEGIN:VEVENT
DTSTAMP:20260715T120000
DTSTART:20260715T070000Z
DTEND:20260717T140000Z
SUMMARY:Shanghai International Baby Photo Expo 2026 (Шанхай, Китай)
DESCRIPTION:Shanghai International Baby Photo Expo - универсальная торговая платформа, посвященная детским, тематическим фотосессиям и фотосьемкам для беременных.
LOCATION:Shanghai World Expo Ehibition and Convention Center (Китай, Шанхай)
END:VEVENT
END:VCALENDAR