BEGIN:VCALENDAR
VERSION:2.0
PRODID:-//TotalExpo.ru v1.0//EN
BEGIN:VEVENT
DTSTAMP:20261101T120000
DTSTART:20261101T070000Z
DTEND:20261130T140000Z
SUMMARY:Krasnoyarsk Digital Forum / KDF 2026 (Красноярск, Россия)
DESCRIPTION:Krasnoyarsk Digital Forum – это масштабная современная площадка для диалога бизнеса, государства и потребителей, которая объединит представителей российских и международных IT-компаний, позволит им презентовать свои новейшие технические разработки в сфере информационных технологий и телекоммуникаций, а также выявит зоны роста и пути развития данной отрасли в Сибирском федеральном округе. 
LOCATION:Сибирь, МВДЦ (Россия, Красноярск)
END:VEVENT
END:VCALENDAR