BEGIN:VCALENDAR
VERSION:2.0
PRODID:-//TotalExpo.ru v1.0//EN
BEGIN:VEVENT
DTSTAMP:20260521T120000
DTSTART:20260521T070000Z
DTEND:20260524T140000Z
SUMMARY:Гранд Текстиль 2026 (Москва, Россия)
DESCRIPTION:Гранд Текстиль - это масштабная ярмарка, на которой можно найти дизайнерскую одежду, винтажные наряды, домашний текстиль, кружево, куклы и многое другое, а также всевозможные материалы, ткани и аксессуары для рукоделия.
LOCATION:Тишинка, ТВК  (Россия, Москва)
END:VEVENT
END:VCALENDAR