BEGIN:VCALENDAR
VERSION:2.0
PRODID:-//TotalExpo.ru v1.0//EN
BEGIN:VEVENT
DTSTAMP:20260520T120000
DTSTART:20260520T070000Z
DTEND:20260523T140000Z
SUMMARY:КРОС 2026 (Сочи, Россия)
DESCRIPTION:Конференция российских операторов связи (КРОС). Ежегодно КРОС собирает более 600 профессионалов отрасли из России и стран СНГ. Приезжают участники из Германии, Франции, США и Канады. Аудитория мероприятия - это специалисты и руководители компаний телекоммуникационной отрасли. На несколько дней конкуренты превращаются в коллег и друзей. Обсуждение важнейших вопросов развития отрасли в неформальной обстановке - фирменный знак, секрет особой атмосферы КРОС. 
LOCATION:Radisson Collection Paradise Resort & Spa Sochi (Россия, Сочи)
END:VEVENT
END:VCALENDAR