BEGIN:VCALENDAR
VERSION:2.0
PRODID:-//TotalExpo.ru v1.0//EN
BEGIN:VEVENT
DTSTAMP:20260812T120000
DTSTART:20260812T070000Z
DTEND:20260814T140000Z
SUMMARY:China International Automotive Interiors and Exteriors Exhibition / CIAIE 2026 (Шанхай, Китай)
DESCRIPTION:Самая авторитетная и профессиональная выставка в сфере автомобильных интерьеров и экстерьеров. CIAIE получила большую поддержку со стороны отечественных и зарубежных представителей отрасли и стала лучшей платформой для получения отраслевой информации и изучения рыночных тенденций, презентации бренда и товаров, расширения каналов сбыта и поиска партнеров для сотрудничества.
LOCATION:Shanghai New International Expo Centre (Китай, Шанхай)
END:VEVENT
END:VCALENDAR