BEGIN:VCALENDAR
VERSION:2.0
PRODID:-//TotalExpo.ru v1.0//EN
BEGIN:VEVENT
DTSTAMP:20260915T120000
DTSTART:20260915T070000Z
DTEND:20260917T140000Z
SUMMARY:Rubber Tech China - International Exhibition on Rubber Technology 2026 (Шанхай, Китай)
DESCRIPTION:Ведущая профессиональная выставка в резиновой промышленности. В мероприятии примут участие экспоненты из более чем 30 стран и регионов мира, занимающиеся автомобильной промышленностью, производственным оборудованием, химикатами, сырьем, шинами и резинотехническими изделиями.
LOCATION:Shanghai New International Expo Centre (Китай, Шанхай)
END:VEVENT
END:VCALENDAR