BEGIN:VCALENDAR
VERSION:2.0
PRODID:-//TotalExpo.ru v1.0//EN
BEGIN:VEVENT
DTSTAMP:20261110T120000
DTSTART:20261110T070000Z
DTEND:20261112T140000Z
SUMMARY:Сибирская аграрная неделя 2026 (Новосибирск, Россия)
DESCRIPTION:«Сибирская аграрная неделя» – крупнейшая международная агропромышленная выставка Сибири и Дальнего Востока. Ведущие производители и поставщики России, Дальнего и Ближнего Зарубежья продемонстрируют современную сельскохозяйственную технику, оборудование и материалы для животноводства, растениеводства, оборудование для переработки, хранения и упаковки сельскохозяйственной продукции, инновационные технологии в сельском хозяйстве.
LOCATION:Новосибирск Экспоцентр (Россия, Новосибирск)
END:VEVENT
END:VCALENDAR