BEGIN:VCALENDAR
VERSION:2.0
PRODID:-//TotalExpo.ru v1.0//EN
BEGIN:VEVENT
DTSTAMP:20260528T120000
DTSTART:20260528T070000Z
DTEND:20260529T140000Z
SUMMARY:Startup Village 2026 (Москва, Россия)
DESCRIPTION:Startup Village — ежегодная международная стартап-конференция для технологических предпринимателей. На Startup Village стартапы встречаются с инвесторами, перенимают опыт и знания успешных предпринимателей из разных стран, презентуют свои проекты на конкурсе и на инновационном базаре, а крупные технологические корпорации, представители власти и институтов развития обсуждают технологические тренды и способы формирования нового поколения российских предпринимателей. 
LOCATION:Центральный парк Сколково (Россия, Москва)
END:VEVENT
END:VCALENDAR