BEGIN:VCALENDAR
VERSION:2.0
PRODID:-//TotalExpo.ru v1.0//EN
BEGIN:VEVENT
DTSTAMP:20260715T120000
DTSTART:20260715T070000Z
DTEND:20260717T140000Z
SUMMARY:CBME China - Shanghai International Children Baby and Maternity Products Expo 2026 (Шанхай, Китай)
DESCRIPTION:Одна из самых крупных в мире выставок, посвященных товарам для детей, младенцев и беременных женщин. Более 4 700 ведущих брендов и компаний со всего мира представят новейшие инновационные продукты и тенденции в отрасли от продуктов здравоохранения до продуктов питания, колясок и игрушек, одежды, аксессуаров и услуг.
LOCATION:National Exhibition and Convention Center (NEСC) (Китай, Шанхай)
END:VEVENT
END:VCALENDAR