BEGIN:VCALENDAR
VERSION:2.0
PRODID:-//TotalExpo.ru v1.0//EN
BEGIN:VEVENT
DTSTAMP:20260708T120000
DTSTART:20260708T070000Z
DTEND:20260710T140000Z
SUMMARY:Asia's Lightweight Automotive Trade Fair / Lightweight Asia 2026 (Шанхай, Китай)
DESCRIPTION:Выставка, посвященная легким автомобилям. Будут представлены и рассмотрены основные тенденции развития и актуальные вопросы, такие как легкие материалы, компоненты, технологии производства и структурная оптимизация.
LOCATION:Shanghai New International Expo Centre (Китай, Шанхай)
END:VEVENT
END:VCALENDAR