BEGIN:VCALENDAR
VERSION:2.0
PRODID:-//TotalExpo.ru v1.0//EN
BEGIN:VEVENT
DTSTAMP:20260615T120000
DTSTART:20260615T070000Z
DTEND:20260617T140000Z
SUMMARY:Healthplex Expo, Natural &amp; Nutraceutical Products China / HNC 2026 (Шанхай, Китай)
DESCRIPTION:Наиболее авторитетная выставка для индустрии здравоохранения в Азии. Более 450 экспонентов представят посетителям здоровые продукты питания, инновации в косметологии и фармацевтике, диетические добавки и витамины, диагностическое оборудование и многое другое.
LOCATION:National Exhibition and Convention Center (NEСC) (Китай, Шанхай)
END:VEVENT
END:VCALENDAR