BEGIN:VCALENDAR
VERSION:2.0
PRODID:-//TotalExpo.ru v1.0//EN
BEGIN:VEVENT
DTSTAMP:20251029T120000
DTSTART:20251029T070000Z
DTEND:20251029T140000Z
SUMMARY:Smart Agro 2025 (Москва, Россия)
DESCRIPTION:ИТ-форум агропромышленного комплекса (АПК) России - это уникальная площадка для обсуждения и обмена опытом по ключевым вопросам и актуальным проблемам ИТ в агропромышленном комплексе РФ, включая инновационные технологии и выработку подходов к реализации ИТ-проектов с участием бизнеса, разработчиков и государства в условиях новой политической и экономической ситуации.
LOCATION:Сафмар Грандъ Москва (Россия, Москва)
END:VEVENT
END:VCALENDAR