BEGIN:VCALENDAR
VERSION:2.0
PRODID:-//TotalExpo.ru v1.0//EN
BEGIN:VEVENT
DTSTAMP:20250529T120000
DTSTART:20250529T070000Z
DTEND:20250529T140000Z
SUMMARY:Телеком Евразия 2025 (Алма-Ата, Казахстан)
DESCRIPTION:Тематика конференции «Телеком Евразия» сфокусирована на практическом опыте, стратегиях и решениях беспроводных технологий, развертывании мобильных широкополосных сетей, спутниковой связи, инновационных технологиях на базе сетей нового поколения, строительстве магистральных оптических сетей связи и инфраструктуре для прокладки ВОЛС.<br/>Частью конференции «Телеком Евразия» станет выставочная экспозиция, где будут продемонстрированы образцы оборудования и перспективные решения для организации современных сетей связи и предоставления услуг.
LOCATION:Достык Отель (Казахстан, Алма-Ата)
END:VEVENT
END:VCALENDAR