BEGIN:VCALENDAR
VERSION:2.0
PRODID:-//TotalExpo.ru v1.0//EN
BEGIN:VEVENT
DTSTAMP:20251118T120000
DTSTART:20251118T070000Z
DTEND:20251118T140000Z
SUMMARY:ProfComm 2025 (Москва, Россия)
DESCRIPTION:Авторитетная площадка для открытого диалога и обсуждения вопросов по сохранению работоспособности телекоммуникационной инфраструктуры ППР, усилению технологического суверенитета, готовности российского рынка выйти на новый уровень, закрыв растущую потребность в условиях санкционных ограничений, и когда мир уже не станет прежним.<br/>В рамках форума пройдет выставка новых отечественных разработок телекоммуникационного оборудования, решений от поставщиков ПО и системных интеграторов.
LOCATION:Холидей Инн Москва Сокольники (Россия, Москва)
END:VEVENT
END:VCALENDAR