BEGIN:VCALENDAR
VERSION:2.0
PRODID:-//TotalExpo.ru v1.0//EN
BEGIN:VEVENT
DTSTAMP:20260609T120000
DTSTART:20260609T070000Z
DTEND:20260611T140000Z
SUMMARY:WieTec 2026 (Шанхай, Китай)
DESCRIPTION:WieTec - крупная выставка, посвященная охране окружающей среды и зеленым технологиям.
LOCATION:National Exhibition and Convention Center (NEСC) (Китай, Шанхай)
END:VEVENT
END:VCALENDAR